BEGIN:VCALENDAR
VERSION:2.0
PRODID:icalendar-ruby
CALSCALE:GREGORIAN
METHOD:PUBLISH
BEGIN:VEVENT
DTSTAMP:20260425T234656Z
UID:13-269437@scrantonroad.org
DTSTART:20260915T100000Z
DTEND:20260915T113000Z
CLASS:PUBLIC
CREATED:20260425T190640
DESCRIPTION:Meets every Tuesday morning at Scranton Road Bible Church's Off
 ice at 6:00am for prayer\, devotional\, breakfast and fellowship\, and end
 s about 7:30am.
LAST-MODIFIED:20260425T190640
LOCATION:Scranton Road Bible Church
SUMMARY:Tuesday Morning Men's Prayer
URL;VALUE=URI:https://www.scrantonroad.org/events/tuesday-morning-mens-pray
 er/2026-09-15
ATTACH;FILENAME=Fl5S7.jpg;FMTTYPE=image/jpeg:https://dq5pwpg1q8ru0.cloudfro
 nt.net/2026/01/14/19/26/46/f1215373-648a-4b36-9df0-ff40bd569c41/Fl5S7.jpg
END:VEVENT
END:VCALENDAR
