BEGIN:VCALENDAR
VERSION:2.0
PRODID:icalendar-ruby
CALSCALE:GREGORIAN
METHOD:PUBLISH
BEGIN:VEVENT
DTSTAMP:20260422T172545Z
UID:20-265254@scrantonroad.org
DTSTART:20260714T140000Z
DTEND:20260718T170000Z
CLASS:PUBLIC
CREATED:20260420T212537
DESCRIPTION:Ages 6-14 years old\nREGISTER IS CURRENTLY FULL - PLEASE FILL 
 OUT THE WAITLIST FORM TO BE ADDED TO THE WAITLIST\nTuesday – Friday: 10a
 m-3pm (check-in begins at 9:30am)\nSaturday 10am-1pm (check-in begins at 9
 :30am)\n@ Scranton Road Bible Church\n3095 Scranton Road\nCleveland\, Ohio
  44113\n$30/child or $40/family\nThis year\, camp will take place at Scran
 ton Road Bible Church.\nIf possible\, please have your child wear tennis s
 hoes or soccer cleats and shinguards. Please send a packed lunch and a ref
 illable water bottle with your camper. 
LAST-MODIFIED:20260420T212537
LOCATION:Scranton Road Bible Church
SUMMARY:Ambassadors Soccer Camp
URL;VALUE=URI:https://www.scrantonroad.org/events/ambassadors-soccer-camp/2
 026-07-14
END:VEVENT
END:VCALENDAR
